View In:
ArcGIS JavaScript
ArcGIS Online Map Viewer
ArcGIS Earth
Service Description: FPA/Giant_Freshwater_Crayfish_GCF_model
Name: FPA/Giant_Freshwater_Crayfish_GCF_model
Description:
Single Fused Map Cache: false
Extent:
XMin: 298790.0
YMin: 5344954.661
XMax: 595750.0
YMax: 5498554.661
Spatial Reference: 28355
(28355)
LatestVCSWkid(0)
Initial Extent:
XMin: 298790.0
YMin: 5344954.661
XMax: 595750.0
YMax: 5498554.661
Spatial Reference: 28355
(28355)
LatestVCSWkid(0)
Full Extent:
XMin: 298790.0
YMin: 5344954.661
XMax: 595750.0
YMax: 5498554.661
Spatial Reference: 28355
(28355)
LatestVCSWkid(0)
Pixel Size X: 10.0
Pixel Size Y: 10.0
Band Count: 3
Pixel Type: U8
RasterFunction Infos: {"rasterFunctionInfos": [{
"name": "None",
"description": "",
"help": ""
}]}
Mensuration Capabilities: Basic
Inspection Capabilities:
Has Histograms: true
Has Colormap: false
Has Multi Dimensions : false
Rendering Rule:
Min Scale: 0
Max Scale: 0
Copyright Text:
Service Data Type: esriImageServiceDataTypeRGB
Min Values: 213, 0, 0
Max Values: 255, 255, 255
Mean Values: 249.5904391015, 219.40491132634, 193.28961083205
Standard Deviation Values: 14.019991514818, 84.750574427008, 108.35609744806
Object ID Field:
Fields:
None
Default Mosaic Method: Center
Allowed Mosaic Methods:
SortField:
SortValue: null
Mosaic Operator: First
Default Compression Quality: 75
Default Resampling Method: Bilinear
Max Record Count: null
Max Image Height: 4100
Max Image Width: 15000
Max Download Image Count: null
Max Mosaic Image Count: null
Allow Raster Function: true
Allow Copy: true
Allow Analysis: true
Allow Compute TiePoints: false
Supports Statistics: false
Supports Advanced Queries: false
Use StandardizedQueries: true
Raster Type Infos:
Name: Raster Dataset
Description: Supports all ArcGIS Raster Datasets
Help:
Has Raster Attribute Table: false
Edit Fields Info: null
Ownership Based AccessControl For Rasters: null
Child Resources:
Info
Histograms
Statistics
Key Properties
Legend
Raster Function Infos
Supported Operations:
Export Image
Identify
Measure
Compute Histograms
Compute Statistics Histograms
Get Samples
Compute Class Statistics
Query Boundary
Compute Pixel Location
Compute Angles
Validate
Project